BEGIN:VCALENDAR
VERSION:2.0
PRODID:https://github.com/derhansen/sf_event_mgt
METHOD:PUBLISH
BEGIN:VEVENT
UID:261-5421@www.hs-emden-leer.de
CLASS: PUBLIC
SUMMARY:Erkundet mit uns den Familien-Hochschulpfad
DESCRIPTION:Sommerferienprogramm für Vorschulkinder und schulpflichtige Kin
 der bis 12 Jahre Melde dich zur besseren Planung bis zu 3 Tage vor der Vera
 nstaltung beim Familienservice an. Achtung: Die Plätze sind aufgrund der de
 rzeitigen Situation begrenzt. Die Altersangabe ist nur eine grobe Angabe, n
 ach Absprache dürfen auch gerne jüngere bzw. ältere Kinder dabei sein. Alle
  Angebote sind kostenfrei und finden vorwiegend im Außenbereich vom Campus 
 Emden statt. Noch Fragen? Telefon 04921-807 1144 familienservice@hs-emden-l
 eer.de\n\nWeitere Infos findet ihr im Flyer.
LOCATION:Campus Emden
DTSTAMP:20210722T114411Z
DTSTART:20210827T070000Z
DTEND:20210827T090000Z
END:VEVENT
END:VCALENDAR
