BEGIN:VCALENDAR
VERSION:2.0
PRODID:https://github.com/derhansen/sf_event_mgt
METHOD:PUBLISH
BEGIN:VEVENT
UID:526-5421@www.hs-emden-leer.de
CLASS: PUBLIC
SUMMARY:Empowerment-Workshop für queere Studierende
DESCRIPTION:Empowerment bedeutet, uns persönlich und gemeinschaftlich in un
 serer Selbstbestimmung zu bestärken. Oft sind wir als queere Personen in Al
 ltagssituationen, in denen wir mit unseren Lebensrealitäten ignoriert, weni
 ger ernst genommen oder gekränkt werden. Wir stehen deshalb an der Hochschu
 le, auf der Arbeit oder im privaten Umfeld häufig vor der Entscheidung, ob 
 wir uns überhaupt outen wollen.\n\nUnsere Erfahrungen mit Geschlecht, Sexua
 lität oder Beziehungsform werden leider noch immer verbesondert, nicht vers
 tanden oder unsichtbar gemacht. Das kann uns unterschiedliche Hürden im All
 tag in den Weg stellen, die es zu meistern gilt.\n\nIm Workshop tauschen wi
 r uns über queere Alltagserfahrungen im Hochschulkontext (z.B. Unsichtbarke
 it, unangemessene Fragen, Starren, Toilettensituation etc.) aus. Dann werde
 n wir gemeinsam Umgangsstrategien für solche Situationen entwickeln. Wir ar
 beiten dafür praktisch mit verschiedenen Methoden. Der Rahmen des Workshops
  ist vertraulich. Es gibt natürlich die Möglichkeit, sich mit einem Rufname
 n anzumelden.\n\nWorkshopleitung: Né Fink ist systemischer Berater und als 
 Trainer für geschlechtliche Vielfalt selbständig. Dey (Pronomen) hat zwei J
 ahre lang das Projekt „Unterstützung von trans* Studierenden“ an der Georg-
 August-Universität Göttingen koordiniert. Durch unzählige Beratungsgespräch
 e mit Studierenden und Consultinggesprächen mit Angestellten und Lehrenden 
 der Universität hat dey Einblicke in die Situation von vielen trans* und ab
 inären Studierenden und Mitarbeiter*innen bekommen. Ehrenamtlich engagiert 
 sich Né Fink in der Trans*- und Angehörigen-Beratung. Né bezeichnet sich se
 lbst als queer und hat Erfahrungen mit unterschiedlichen queeren Zuschreibu
 ngen gemacht (u.a. trans*, schwul, pan).\n\nAnmeldungen werden vertraulich 
 unter gleichstellung(at)hs-emden-leer.de entgegengenommen.
LOCATION:Online
DTSTAMP:20221111T105328Z
DTSTART:20230113T120000Z
DTEND:20230113T160000Z
END:VEVENT
END:VCALENDAR
