BEGIN:VCALENDAR
VERSION:2.0
PRODID:https://github.com/derhansen/sf_event_mgt
METHOD:PUBLISH
BEGIN:VEVENT
UID:844-5573@www.hs-emden-leer.de
CLASS: PUBLIC
SUMMARY:Emder Vortrag „Schutz des Bodens - notwendiger denn je"
DESCRIPTION:Die Hochschule Emden/Leer lädt in Kooperation mit der Vereinigu
 ng Deutscher Wissenschaftler (VDW) zu den bereits traditionellen Emder Vort
 rägen an den Campus Emden ein.\n\nBoden, diese Dünne Haut der Erde, wird vi
 elfach übersehen. Dabei sind Böden durch ihren Reichtum an Organismen und d
 urch ihre vielfältige Beschaffenheit nicht nur faszinierend, sondern absolu
 t existenziell für das menschliche Überleben. Seit langem wird die Bedeutun
 g der Böden vernachlässigt. Das muss sich ändern, denn Böden sind Dreh- und
  Angelpunkt für viele Klimaschutzfragen.\n\nWir freuen uns sehr beim diesjä
 hrigen Emder Vortrag Prof. Dr. Hubert Weiger, begrüßen zu dürfen. Mit seine
 r jahrzehntelangen Erfahrung als Aktivist, Wissenschaftler und langjähriger
  Vorsitzender des Bundes für Umwelt und Naturschutz in Deutschland gibt er 
 uns einen Einblick in dieses zentrale Thema - das auch in Ostfriesland in d
 en nächsten Jahren von zunehmender Bedeutung sein wird.\n\nDer Vortrag star
 tet um 18.30 Uhr in Hörsaal T 151, Einlass ist um 18 Uhr.\n\nAnmeldungen we
 rden per Mail an veranstaltung@hs-emden-leer.de entgegen genommen.
DTSTAMP:20241025T094850Z
DTSTART:20241105T170000Z
DTEND:20241105T190000Z
END:VEVENT
END:VCALENDAR
