BEGIN:VCALENDAR
VERSION:2.0
PRODID:https://github.com/derhansen/sf_event_mgt
METHOD:PUBLISH
BEGIN:VEVENT
UID:407-5421@www.hs-emden-leer.de
CLASS: PUBLIC
SUMMARY:Eltern-Café & Friends: "Farben"
DESCRIPTION:Zum Hintergrund:\n\nDie Aktion „Kinder malen für die Ukraine un
 d den Frieden“ wurde in Emden von der Fresena Galerie ins Leben gerufen. Si
 e möchte insbesondere den Kindern in der Ukraine helfen. Durch das gemeinsa
 me  Malen wird zudem unseren Kindern die Möglichkeit geben, ihre Ängste und
  Sorgen zu verarbeiten. Dabei setzen wir alle ein Zeichen der Solidarität s
 owie ein Zeichen für Freiheit, Demokratie und Frieden in Europa.\n\nDie kre
 ativen Arbeiten der Kinder werden im Anschluss in der Mensa Emden des Stude
 ntenwerks Oldenburg ausgehangen und können gegen eine selbstgewählte Spende
 nhöhe erworben werden. Das Geld wird auf dem Spendenkonto der Galerie gesam
 melt und anschließend der Ukraine zur Verfügung gestellt.\n\nAufgrund der d
 erzeitigen Situation bitten wir um Voranmeldung mit Personenanzahl.  Farben
  und Malutensilien werden kostenfrei  zur Verfügung gestellt. \n\n\n\nAnmel
 dung:\n\nNoch Fragen? Oder gleich anmelden unter:\n\n04921 807-1144\n\nfami
 lienservice@hs-emden-leer.de\n\nSie haben keine Zeit und möchten trotzdem m
 itmachen?\n\nDas ist gar kein Problem! Kleine und große Künstler*innen dürf
 en ihr Bild auch gerne bei der Poststelle an der Hochschule Emden/Leer (Hau
 pteingang am Springbrunnen) abgeben oder an „Hochschule Emden/Leer, Familie
 nservice, Constantiaplatz 4, 26723 Emden“ senden.\n\n\n\n
LOCATION:Campus Emden
DTSTAMP:20220420T080614Z
DTSTART:20220506T133000Z
DTEND:20220506T153000Z
END:VEVENT
END:VCALENDAR
