BEGIN:VCALENDAR
VERSION:2.0
PRODID:https://github.com/derhansen/sf_event_mgt
METHOD:PUBLISH
BEGIN:VEVENT
UID:306-5421@www.hs-emden-leer.de
CLASS: PUBLIC
SUMMARY:Diskussionsrunde zum Film "Picture A Scientist"
DESCRIPTION:Wer macht eigentlich Wissenschaft? Und weshalb ist es in unsere
 r Vorstellung immer noch „der Wissenschaftler“? In dem Film „Picture A Scie
 ntist“ führen eine Biologin, eine Chemikerin und eine Geologin das Publikum
  auf eine Reise durch die Erfahrungen ihrer akademischen Laufbahn – als Fra
 uen der Wissenschaft. Dabei zeigt der Film eindrücklich den Kampf der Wisse
 nschaftlerinnen um Anerkennung, Respekt und Gleichberechtigung.\n\nInformat
 ionen und einen Trailer zum Film "Picture A Scientist" (2020, engl. mit dt.
  Untertiteln) finden Sie hier: https://mindjazz-pictures.de/filme/picture-a
 -scientist/ \n\nAnmeldung: gleichstellung[at]hs-emden-leer.de\n\nBei Anmeld
 ung erhalten Sie einen Link zum Film für das Streaming zu Hause (ab dem 03.
 12.). Zudem erhalten Sie den Link zum Videokonferenzraum zur Diskussionsrun
 de.
LOCATION:Online
DTSTAMP:20211018T113029Z
DTSTART:20211216T183000Z
DTEND:20211216T193000Z
END:VEVENT
END:VCALENDAR
