BEGIN:VCALENDAR
VERSION:2.0
PRODID:https://github.com/derhansen/sf_event_mgt
METHOD:PUBLISH
BEGIN:VEVENT
UID:581-7768@www.hs-emden-leer.de
CLASS: PUBLIC
SUMMARY:Diplomierungsfeier WS2021
DESCRIPTION:Genauere Angaben werden wir später hier veröffentlichen.
DTSTAMP:20230303T083851Z
DTSTART:20211015T133000Z
DTEND:20211015T190000Z
END:VEVENT
END:VCALENDAR
