BEGIN:VCALENDAR
VERSION:2.0
PRODID:https://github.com/derhansen/sf_event_mgt
METHOD:PUBLISH
BEGIN:VEVENT
UID:412-5421@www.hs-emden-leer.de
CLASS: PUBLIC
SUMMARY:Digitaler Durchblick: Smartphone-Überlebenstipps für Eltern
DESCRIPTION:Whatsapp, Snapchat, Instagram: Viele Jugendliche setzen Smartph
 ones deutlich mehr ein als ihre Eltern – und sind deshalb der Meinung, sie 
 alleine seien digital kompetent. Mit diesen Infos lässt sich diese Schiefla
 ge schnell wieder etwas geraderücken.\n\n\n\nZur Person: Hendrik Odendahl i
 st langjähriger Informatik- und Vertrauenslehrer. Seit 30 Jahren begeistert
  er sich für alles, was mit Computern und Digitalisierung zu tun hat.\n\n\n
 \nAnmeldung & weitere Informationen:\n\nKyra Buschak\n\nProjektkoordination
  Familienservice\n\n+49 4921 807-1144\n\n>> kyra.buschak@hs-emden-leer.de
LOCATION:Online
DTSTAMP:20220429T113931Z
DTSTART:20220523T153000Z
DTEND:20220523T173000Z
END:VEVENT
END:VCALENDAR
