BEGIN:VCALENDAR
VERSION:2.0
PRODID:https://github.com/derhansen/sf_event_mgt
METHOD:PUBLISH
BEGIN:VEVENT
UID:447-5416@www.hs-emden-leer.de
CLASS: PUBLIC
SUMMARY:Digitale Infoverstaltung: StudyGreenEnergy
DESCRIPTION:\n\nHier kannst du dich am 23.06.22, ab 18:30 Uhr, über die Stu
 dienmöglichkeiten zum Thema Erneuerbare Energien an deiner Zukunftshochschu
 le Emden/Leer live informieren.\n\nLogge dich direkt ein unter:  https://hs
 -emden-leer-de.zoom.us/j/97423403504\n\n\n\nHier findest du das komplette P
 rogramm vom #StudyGreenEnergyDay:\n\nStudyGreenEnergy - Die Energiewende mi
 tgestalten
LOCATION:Online
DTSTAMP:20220624T115926Z
DTSTART:20220623T163000Z
DTEND:20220623T174500Z
END:VEVENT
END:VCALENDAR
