BEGIN:VCALENDAR
VERSION:2.0
PRODID:https://github.com/derhansen/sf_event_mgt
METHOD:PUBLISH
BEGIN:VEVENT
UID:383-5412@www.hs-emden-leer.de
CLASS: PUBLIC
SUMMARY:Arbeitskreis Barrierefreie Hochschule Emden-Leer
DESCRIPTION:
DTSTAMP:20220401T134246Z
DTSTART:20220607T080000Z
DTEND:20220607T093000Z
END:VEVENT
END:VCALENDAR
