BEGIN:VCALENDAR
VERSION:2.0
PRODID:https://github.com/derhansen/sf_event_mgt
METHOD:PUBLISH
BEGIN:VEVENT
UID:384-6588@www.hs-emden-leer.de
CLASS: PUBLIC
SUMMARY:Campuslive "am Container" - DJ Hennu
DESCRIPTION:DJ Hennu steht für gute Laune und abwechslungsreiche Musik. Kom
 m vorbei und genieße eine Atmosphäre die einlädt, vielfältigste Musik zu ge
 nießen oder auch einfach ein paar Getränke zu schlürfen und mit Freunden ei
 nen guten Abend zu verbringen. Alles kann, nichts muss!
LOCATION:Campus Emden
DTSTAMP:20220406T103416Z
DTSTART:20220406T150000Z
DTEND:20220406T190000Z
END:VEVENT
END:VCALENDAR
