BEGIN:VCALENDAR
VERSION:2.0
PRODID:https://github.com/derhansen/sf_event_mgt
METHOD:PUBLISH
BEGIN:VEVENT
UID:433-7172@www.hs-emden-leer.de
CLASS: PUBLIC
SUMMARY:Campuslive "am Container" - Zorrows
DESCRIPTION:"Kraftvolle Musik, tiefgründige Texte, unzensiert mit klarer Ha
 ltung - melodischer Punkrock von zart bis hart" So beschreibt die Band aus 
 dem idyllischen Ostfriesland, ihre Musik!\n\nDie Zorrows haben euch bereits
  beim Danz vör'd Mensa ordentlich eingeheizt und sind nun wieder zurück!
LOCATION:Campus Emden
DTSTAMP:20220506T070349Z
DTSTART:20220518T150000Z
DTEND:20220518T190000Z
END:VEVENT
END:VCALENDAR
