BEGIN:VCALENDAR
VERSION:2.0
PRODID:https://github.com/derhansen/sf_event_mgt
METHOD:PUBLISH
BEGIN:VEVENT
UID:432-7172@www.hs-emden-leer.de
CLASS: PUBLIC
SUMMARY:Campuslive "am Container" - Tanzkurs Open Air
DESCRIPTION:Auf heißen Sohlen unter freiem Himmel, ein Tanzkurs in letzter 
 Minute auf dem Mensavorplatz. Unter professioneller Anleitung lernt ihr die
  Grundschritte der Tanzstandards auf Party und Ball.
LOCATION:Campus Emden
DTSTAMP:20220506T070349Z
DTSTART:20220511T150000Z
DTEND:20220511T190000Z
END:VEVENT
END:VCALENDAR
