BEGIN:VCALENDAR
VERSION:2.0
PRODID:https://github.com/derhansen/sf_event_mgt
METHOD:PUBLISH
BEGIN:VEVENT
UID:386-6588@www.hs-emden-leer.de
CLASS: PUBLIC
SUMMARY:Campuslive "am Container" - Live-Haircut
DESCRIPTION:Calis Hair dream, ein moderner Salon mit modischen Frisuren. Da
 s dynamische Team zeigt bereits heute, was morgen angesagt ist. Auch für Ex
 perimente ist die Crew offen.\n\nLasst euch stylen oder einen neuen Haarsch
 nitt verpassen, während ihr ein kühles Getränk und Musik genießt. 
LOCATION:Campus Emden
DTSTAMP:20220406T103345Z
DTSTART:20220420T150000Z
DTEND:20220420T190000Z
END:VEVENT
END:VCALENDAR
