BEGIN:VCALENDAR
VERSION:2.0
PRODID:https://github.com/derhansen/sf_event_mgt
METHOD:PUBLISH
BEGIN:VEVENT
UID:428-7172@www.hs-emden-leer.de
CLASS: PUBLIC
SUMMARY:Campuslive "am Container" - Janosh
DESCRIPTION:Kopf aus, die Beine tanzen von allein und die Gedanken träumen 
 sich durch die Geschichten über das Lieben, Leiden und das Leben. Indie hei
 ßt Freiheit und genau das vermitteln Janosh. Mal weich und entspannend, mal
  rau und energisch aber nie zu ernst. Einfach mal machen und was auch immer
  am Ende herauskommt ist gut, solange es ehrlich ist.
LOCATION:Campus Emden
DTSTAMP:20220506T070349Z
DTSTART:20220413T150000Z
DTEND:20220413T190000Z
END:VEVENT
END:VCALENDAR
