BEGIN:VCALENDAR
VERSION:2.0
PRODID:https://github.com/derhansen/sf_event_mgt
METHOD:PUBLISH
BEGIN:VEVENT
UID:436-7172@www.hs-emden-leer.de
CLASS: PUBLIC
SUMMARY:Campuslive "am Container" - Das große Finale
DESCRIPTION:Läutet mit uns gemeinsam das Ende des Sommersemesters ein.
DTSTAMP:20220506T070349Z
DTSTART:20220608T150000Z
DTEND:20220608T190000Z
END:VEVENT
END:VCALENDAR
