BEGIN:VCALENDAR
VERSION:2.0
PRODID:https://github.com/derhansen/sf_event_mgt
METHOD:PUBLISH
BEGIN:VEVENT
UID:464-7323@www.hs-emden-leer.de
CLASS: PUBLIC
SUMMARY:Campuslive "am Container"
DESCRIPTION:Kühle Getränke und fruchtige Erfrischungen erwarten euch beim F
 eierabendmarkt am Container.
LOCATION:Campus Emden
DTSTAMP:20220802T111926Z
DTSTART:20220601T133000Z
DTEND:20220601T180000Z
END:VEVENT
END:VCALENDAR
