BEGIN:VCALENDAR
VERSION:2.0
PRODID:https://github.com/derhansen/sf_event_mgt
METHOD:PUBLISH
BEGIN:VEVENT
UID:297-6312@www.hs-emden-leer.de
CLASS: PUBLIC
SUMMARY:Buchclub
DESCRIPTION:Ein kleines Speeddating, verschiedene Buchvorschläge zum lesen 
 und natürlich ein Austausch mit anderen begeisterten Lesenden. Bei den von 
 uns ausgewählten Büchern handelt es sich um eine Auswahl aus dem Bereich En
 trepreneuship. Sowohl Bücher aus dem Bereich Persönlichkeitsentwicklung, al
 s auch aus dem Bereich Zeitmanagement und verschiedene Ratgeber möchten wir
  gemeinsam mit dir lesen. Unsere erste Bücherauswahl findest du bei Instagr
 am. So viel sei verraten: Es handelt sich um Bücher von Maja Göpel, Tobias 
 Beck und Brian Tracy. Natürlich darfst du auch eigene Vorschläge mitbringen
 .\n\nDu bist herzlich eingeladen den Buchclub aktiv mitzugestalten! Wir sin
 d offen für neue Formate, Bücher sowie Personen und freue uns auf dich.
DTSTAMP:20210930T133940Z
DTSTART:20211026T150000Z
DTEND:20211026T170000Z
END:VEVENT
END:VCALENDAR
