BEGIN:VCALENDAR
VERSION:2.0
PRODID:https://github.com/derhansen/sf_event_mgt
METHOD:PUBLISH
BEGIN:VEVENT
UID:332-177@www.hs-emden-leer.de
CLASS: PUBLIC
SUMMARY:Blutspende- und Typisierungsaktion
DESCRIPTION:Am 09.03.2022 findet der alljährliche Blutspendetermin des Deut
 schen Roten Kreutzes an der Hochschule Emden/Leer statt. In diesem Jahr wir
 d die Blutspende- um eine Typisierungsaktion mit Hilfe der DSD ergänzt.  
LOCATION:Campus Emden
DTSTAMP:20220127T132640Z
DTSTART:20220309T100000Z
DTEND:20220309T150000Z
END:VEVENT
END:VCALENDAR
