BEGIN:VCALENDAR
VERSION:2.0
PRODID:https://github.com/derhansen/sf_event_mgt
METHOD:PUBLISH
BEGIN:VEVENT
UID:472-5419@www.hs-emden-leer.de
CLASS: PUBLIC
SUMMARY:Bewerbungstraining für angehende Ingenieur/innen und Techniker/inne
 n mit Ferchau
DESCRIPTION:Inhalte des Workshops werden die folgenden Themen sein:\n\n 	Wa
 s gehört zur Vorbereitung auf eine Bewerbung bzw. auf ein Bewerbungsgespräc
 h? 	Wie finde ich den richtigen Job? 	Was gehört in ein Anschreiben? 	Wie g
 estalte ich einen Lebenslauf? 	Ziele und Phasen eines Bewerbungsgesprächs 	
  		Besonderheiten bei Videointerviews 	 	 \n\nDer Workshop wird online stat
 tfinden, den Link zum Meeting-Raum senden wir Ihnen rechtzeitig vor der Ver
 anstaltung zu.
DTSTAMP:20220825T064042Z
DTSTART:20221101T130000Z
DTEND:20221101T153000Z
END:VEVENT
END:VCALENDAR
