BEGIN:VCALENDAR
VERSION:2.0
PRODID:https://github.com/derhansen/sf_event_mgt
METHOD:PUBLISH
BEGIN:VEVENT
UID:358-5419@www.hs-emden-leer.de
CLASS: PUBLIC
SUMMARY:Bewerbungstraining für angehende Ingeneur/innen und Techniker/innen
DESCRIPTION:Erläutert wird die Gestaltung einer erfolgreichen Bewerbung, de
 ren Inhalte und auch die Dürchführung eines darauffolgenden Bewerbungsgespr
 äches werden thematisiert.\n\nDurch den Workshop werden Mitarbeiter der Fer
 chau GmbH leiten. \n\n\n\n
LOCATION:Online
DTSTAMP:20220303T110007Z
DTSTART:20220322T140000Z
DTEND:20220322T163000Z
END:VEVENT
END:VCALENDAR
