BEGIN:VCALENDAR
VERSION:2.0
PRODID:https://github.com/derhansen/sf_event_mgt
METHOD:PUBLISH
BEGIN:VEVENT
UID:474-5419@www.hs-emden-leer.de
CLASS: PUBLIC
SUMMARY:Bewerbungsprofil 4.0
DESCRIPTION:Das Internet bietet viele verschiedene Plattformen und Netzwerk
 tools, die zur aktiven Stellensuche genutzt werden können – und auch dazu, 
 um mit einem eigenen Profil auf sich aufmerksam zu machen. Hier ist es wich
 tig, mit Keywords zu arbeiten, die eigenen Fähigkeiten und Kompetenzen zu k
 ennen und sich aussagekräftig zu platzieren.\n\n Inhalte und Themen des Vor
 trags: - Analyse und Bewertung der in Deutschland gängigen Business Netzwer
 kportale (Xing, LinkedIn, Twitter …) - Verschiedene Tipps für die Beschreib
 ung der eigenen Fähigkeiten/Soft Skills\n\n Voraussetzungen auf Teilnehmend
 enseite sind: stabiles Internet - und ein Laptop oder PC mit funktionierend
 er Audio/Videofunktion.
LOCATION:Online
DTSTAMP:20220825T064108Z
DTSTART:20221206T133000Z
DTEND:20221206T153000Z
END:VEVENT
END:VCALENDAR
