BEGIN:VCALENDAR
VERSION:2.0
PRODID:https://github.com/derhansen/sf_event_mgt
METHOD:PUBLISH
BEGIN:VEVENT
UID:108-5419@www.hs-emden-leer.de
CLASS: PUBLIC
SUMMARY:Bewerben 4.0
DESCRIPTION:Der Kurs findet in drei Phasen statt :\n\n 	 	31. Mai bis 04. J
 uni- Vorbereitungsphase und Voraussetzung zur Teilnahme: Material und Aufga
 ben zur Vorbereitung im durch Trainerin moderierten moodle-Kursraum, ca. 2 
 Stunden Zeitaufwand, zeitlich individuell nutzbar 	 	 	04. Juni, 13:30 - 18
 .00 Uhr: Online-Präsenz-Workshop via Zoom: gemeinsame Online-Präsenz mit in
 teraktiven Lernsituationen 	 	 	05. bis 10. Juni - Transferphase:  Feedback
  auf Unterlagen in moodle, Bewerbungsprofile usw, ca. 2 Stunden Zeitaufwand
 , zeitlich individuell nutzbar 	 \n\nTipps und Tricks für\n\n 	Grundlagen d
 er Personalauswahlverfahren für die Online-Bewerbung 	erfolgreiche Verwendu
 ng von Online-Auswahl- und Vorauswahl-Tools 	Dokumente in Online-Systemen (
 Lebenslauf, Bewerbungsschreiben, Textfelder) 	weitere online Tools (z. B. v
 irtuelles Assessment, zeitversetztes Interview usw.) \n\nSie gewinnen Siche
 rheit für Bewerbungen mit Online-Bewerbungstools, in dem Sie die grundsätzl
 ichen Funktionen der Software, welche eingesetzt wird, kennen (bis hin zu z
 eitversetzten Video-Interviews). Sie können ihre online-Profile (z.B. Xing,
  LinkedIn usw.) in Bezug auf keywords optimieren. Sie können die sprachlich
 e Gestaltung der Bewerbungsunterlagen optimieren um Recruitingalgorithmen g
 ezielt anzusprechen. Da der Kurs über Moodle und Zoom läuft, besteht auch d
 ie Möglichkeit, sich über technische und inhaltliche Gegebenheiten zu infor
 mieren und auszutauschen.\n\nAnmeldung unter folgendem Link mit den Hochsch
 ullogin-Daten: https://hs-emden-leer.jobteaser.com/de/events/96553-bewerben
 -4-0-online-bewerbungsportale-und-online-profile-richtig-nutzen
LOCATION:Online
DTSTAMP:20210204T141424Z
DTSTART:20210604T113000Z
DTEND:20210604T160000Z
END:VEVENT
END:VCALENDAR
