BEGIN:VCALENDAR
VERSION:2.0
PRODID:https://github.com/derhansen/sf_event_mgt
METHOD:PUBLISH
BEGIN:VEVENT
UID:375-5414@www.hs-emden-leer.de
CLASS: PUBLIC
SUMMARY:Austauschcafe
DESCRIPTION:Der Fokus dieser Veranstaltung liegt in dem Austausch zwischen 
 nationalen und internationalen Studierenden. Somit kannst du dich über neue
  Bekanntschaften und das Kennenlernen von anderen Kulturen freuen. \n\nJede
  und Jeder ist hierzu herzlich eingeladen - wir freuen uns auf Dich :)
DTSTAMP:20220324T122516Z
DTSTART:20220407T173000Z
DTEND:20220407T183000Z
END:VEVENT
END:VCALENDAR
