BEGIN:VCALENDAR
VERSION:2.0
PRODID:https://github.com/derhansen/sf_event_mgt
METHOD:PUBLISH
BEGIN:VEVENT
UID:123-5419@www.hs-emden-leer.de
CLASS: PUBLIC
SUMMARY:Applying for Jobs in Germany
DESCRIPTION:Furthermore, a typical job interview, the most common questions
  and possible answers will be discussed and explained.\n\nWorkshop language
 : English\n\nThis Online-workshop will take place via Moodle (preparation) 
 and a Online-Meeting via a Videoconference Tool.\n\n 	1 week before the wor
 kshop, the documents for this course will be provided on Moodle as PowerPoi
 nt and PDF, these Documents should be viewed by the participants until the 
 online appointment, open questions should be noted 	In the following online
  course on the 24. May the contents are discussed and open questions are an
 swered 	The link to the online workshop and the access address will be sent
  to you in time. \n\nTo participate you have to login in the Career Port un
 der Events  https://hs-emden-leer.jobteaser.com. There you can find all eve
 nts and workshops. Therefore use your university login. If your are new to 
 the Jobportal you have to do a quick registration first.\n\nFor further que
 stions please contact the Career Service under careerservice@hs-emden-leer.
 de. You can find more informations on our website: https://www.hs-emden-lee
 r.de/hochschule/organisation/einrichtungen/career-service.
LOCATION:Online
DTSTAMP:20220303T105828Z
DTSTART:20220524T140000Z
DTEND:20220524T160000Z
END:VEVENT
END:VCALENDAR
