BEGIN:VCALENDAR
VERSION:2.0
PRODID:https://github.com/derhansen/sf_event_mgt
METHOD:PUBLISH
BEGIN:VEVENT
UID:592-7768@www.hs-emden-leer.de
CLASS: PUBLIC
SUMMARY:Applied Photonics DPG Physics School 2021
DESCRIPTION:The school “Applied Photonics” covers fundamentals in photonics
  as well as advancing research topics and applications of a key technology 
 that is seen as one of the most important building blocks in future technol
 ogical innovation. Photonic systems are ubiquitous in modern life, like e.g
 . in metrology, biomedical applications, space and earth exploration, produ
 ction technologies, information processing and imaging.\n\nTopics include: 
 Physics and engineering basics, a hands-on workshop in optical design and s
 imulation software, a comprehensive overview of state-of-the-art techniques
  including nanooptics, space sciences, laser systems in industrial applicat
 ions and micro-processing, biophotonics and medical laser therapies, spectr
 oscopy and optical metrology.\n\nEach day of the school is dedicated to a m
 ain topic addressed by leading researchers, engineers, and practitioners fr
 om renowned companies as well as large scale research facilities. The speak
 ers provide insights into the industry and research landscape, career paths
 , and upcoming technologies:\n\n 	 	Dr.-Ing. e.h. Thomas Reiter (Astronaut,
  ESOC European Space Operations Centre, ESA Interagency Coordinator and Adv
 isor to the Director General, Darmstadt, Germany) 	 	 	Prof. Dr. Halina Rub
 insztein-Dunlop (Director of the Quantum Science Laboratory, University of 
 Queensland, Brisbane, Australia) 	 	 	Dr. Ludwin Monz (Member of the Execut
 ive Board Carl Zeiss AG; President and CEO of Carl Zeiss Meditec AG, Jena, 
 Germany) 	 	 	Prof. Dr. Andreas Hielscher (Biomedical engineering, Electric
 al engineering and Radiology, Columbia University, New York, USA) 	 	 	Dr. 
 Jens Lassen (TRIUMF, Canada's national laboratory for particle and nuclear 
 physics and accelerator-based science, Vancouver, Canada) 	 	 	Dr. Heiner V
 oges (Member of Board of Management and CEO, LaVision GmbH, Göttingen, Ger
 many) 	 	 	Prof. Dr. Oliver Zielinski (Institute for Chemistry and Biology 
 of the Marine   Environment (ICBM) and Head of DFKI, University Oldenburg) 
 	 	 	Dr. Fritz Merkle (Member of the Executive Board OHB, Member of the Sen
 ate of the German Aerospace Center) 	 \n\n 	 	Prof. Dr. Lothar Lilge (Medic
 al Biophysics, University of Toronto, Princess Margaret Cancer Centre, Cana
 da) 	 	 	Prof. Dr. Claus Lämmerzahl (Center of Applied Space Technology an
 d Microgravity (ZARM), University of Bremen, Germany) 	 \n\nThe school is o
 pen to enthusiastic advanced undergraduate, graduate and doctoral students,
  and professionals from all over the world, especially for those seeking a 
 career in academia or industry. The applications will be registered on a fi
 rst-come-first-serve basis - the number of participants in person is limite
 d to 80.\n\nIf you know for sure, that you cannot take part in person you s
 till can apply for live streaming the School by email to Victor Gomer. This
  email needs to claim in the subject line "Application to Applied Photonics
  2021" and provide at least your full name and affiliation.
LOCATION:Online
DTSTAMP:20230303T083851Z
DTSTART:20210905T143000Z
DTEND:20210910T113000Z
END:VEVENT
END:VCALENDAR
