BEGIN:VCALENDAR
VERSION:2.0
PRODID:https://github.com/derhansen/sf_event_mgt
METHOD:PUBLISH
BEGIN:VEVENT
UID:439-274@www.hs-emden-leer.de
CLASS: PUBLIC
SUMMARY:Antrittsvorlesungen
DESCRIPTION:
DTSTAMP:20220513T083429Z
DTSTART:20220609T153000Z
DTEND:20220609T170000Z
END:VEVENT
END:VCALENDAR
