BEGIN:VCALENDAR
VERSION:2.0
PRODID:https://github.com/derhansen/sf_event_mgt
METHOD:PUBLISH
BEGIN:VEVENT
UID:479-5417@www.hs-emden-leer.de
CLASS: PUBLIC
SUMMARY:Anders wirtschaften on Tour - Unternehmensbesuch Sodasan
DESCRIPTION:Anmeldung bei: anna.gerritzen@hs-emden-leer.de
DTSTAMP:20220913T063840Z
DTSTART:20221101T100000Z
DTEND:20221101T150000Z
END:VEVENT
END:VCALENDAR
