BEGIN:VCALENDAR
VERSION:2.0
PRODID:https://github.com/derhansen/sf_event_mgt
METHOD:PUBLISH
BEGIN:VEVENT
UID:305-5421@www.hs-emden-leer.de
CLASS: PUBLIC
SUMMARY:Aktiv gegen sexualisierte Diskriminierung und Gewalt – Lernen Sie d
 ie Handlungswege und Unterstützungsangebote an der Hochschule Emden/Leer ke
 nnen!
DESCRIPTION:Die Hochschule Emden/Leer setzt sich dafür ein, dass die Persön
 lichkeitsrechte von Menschen und deren individuelle Persönlichkeitsgrenzen 
 respektiert und gewahrt werden. Sexualisierte Diskriminierung und Gewalt st
 ellen eine Verletzung der Persönlichkeitsrechte dar. Doch was unternimmt di
 e Hochschule, wenn persönliche Grenzen verletzt werden? An wen kann ich mic
 h wenden, wenn ich sexuelle Belästigung erfahren oder beobachtet habe? Wo f
 inde ich weitere Informationen zu dem Thema? Diese und andere Fragen sollen
  in der Veranstaltung zusammen mit den Vertrauenspersonen und der Beschwerd
 estelle der Hochschule beantwortet werden.\n\nAnmeldung: gleichstellung[at]
 hs-emden-leer.de
LOCATION:Online
DTSTAMP:20211129T094117Z
DTSTART:20211215T163000Z
DTEND:20211215T180000Z
END:VEVENT
END:VCALENDAR
